BEGIN:VCALENDAR
VERSION:2.0
PRODID:-//wp-events-plugin.com//7.2.3.1//EN
TZID:Europe/Paris
X-WR-TIMEZONE:Europe/Paris
BEGIN:VEVENT
UID:1328@lsr21.org
DTSTART;TZID=Europe/Paris:20260424T000000
DTEND;TZID=Europe/Paris:20260516T000000
DTSTAMP:20260425T183009Z
URL:https://lsr21.org/activites/24-avril-photos-muguet-a-gissey-sur-ouche/
SUMMARY:24 avril : PHOTOS muguet à Gissey sur Ouche
DESCRIPTION:https://app.sugarsync.com/iris/wf/D4506486_09615954_7019685\n\n
 Merci à Ghislaine et Jean Claude pour leur chaleureux accueil
CATEGORIES:Activités Pédestres,activités sportives,AMC,Evènements
 ponctuels,Randos,Sport,VieAssociation
END:VEVENT
BEGIN:VTIMEZONE
TZID:Europe/Paris
X-LIC-LOCATION:Europe/Paris
BEGIN:DAYLIGHT
DTSTART:20260329T030000
TZOFFSETFROM:+0100
TZOFFSETTO:+0200
TZNAME:CEST
END:DAYLIGHT
END:VTIMEZONE
END:VCALENDAR