BEGIN:VCALENDAR
VERSION:2.0
PRODID:-//wp-events-plugin.com//7.2.3.1//EN
TZID:Europe/Paris
X-WR-TIMEZONE:Europe/Paris
BEGIN:VEVENT
UID:795@lsr21.org
DTSTART;TZID=Europe/Paris:20240906T133000
DTEND;TZID=Europe/Paris:20240906T170000
DTSTAMP:20240904T073807Z
URL:https://lsr21.org/activites/8-septembre-balade-sante/
SUMMARY:6 septembre balade santé
DESCRIPTION:Amis marcheurs\n\nPour le vendredi 6 septembre\, la balade sant
 é reprend et vous donne RDV au parking port du canal pour un départ à 1
 3h30 en direction de Saint-Apollinaire. Pour ceux et celles qui veulent se
  rendre directement sur le point de départ du parcours\, RDV sur les aire
 s de stationnement à la hauteur de l'arrêt de bus "Marie de Bourgogne"\,
  carrefour des rues Marie de Bourgogne et de Moirey\, à 100 m de la Mairi
 e. Le parcours fera environ 4\,5 Km. Pensez à prendre de la boisson et vo
 tre sourire habituel.\n\nJean\, tél. 06 30 33 51 46
CATEGORIES:Activités Pédestres,randonnée 10 mars,Randos,Sport
END:VEVENT
BEGIN:VTIMEZONE
TZID:Europe/Paris
X-LIC-LOCATION:Europe/Paris
BEGIN:DAYLIGHT
DTSTART:20240331T030000
TZOFFSETFROM:+0100
TZOFFSETTO:+0200
TZNAME:CEST
END:DAYLIGHT
END:VTIMEZONE
END:VCALENDAR