BEGIN:VCALENDAR
VERSION:2.0
PRODID:-//wp-events-plugin.com//7.2.3.1//EN
TZID:Europe/Paris
X-WR-TIMEZONE:Europe/Paris
BEGIN:VEVENT
UID:1323@lsr21.org
DTSTART;TZID=Europe/Paris:20260424T093000
DTEND;TZID=Europe/Paris:20260424T180000
DTSTAMP:20260422T073157Z
URL:https://lsr21.org/activites/balade-du-vendredi-24-avril/
SUMMARY:Balade du vendredi 24 avril
DESCRIPTION:Bonjour à toutes et à tous \;\n\nPetit changement par rapport
  au programme \,pour la journée du 24 avril \,nous irons à Gissey-sur-Ou
 che\n\nvers Jean-Claude MERLIN à la cueillette du muguet !RDV au canal po
 ur un départ à 9h30 direction Gissey .\n\nRepas tiré du sac à midi et 
 si il nous reste un peu de temps l'après-midi nous pourrons peut-être fa
 ire une partie de pétanque !\n\nAlors pensez à vos chapeaux \,vos boisso
 ns\, vos bâtons et vos boules si vous en avez !!\n\nLSRement\,\n\nBernard
       06 80 78 26 61
CATEGORIES:Activités Pédestres,activités sportives,Evènements
 ponctuels,Randos,Sport
END:VEVENT
BEGIN:VTIMEZONE
TZID:Europe/Paris
X-LIC-LOCATION:Europe/Paris
BEGIN:DAYLIGHT
DTSTART:20260329T030000
TZOFFSETFROM:+0100
TZOFFSETTO:+0200
TZNAME:CEST
END:DAYLIGHT
END:VTIMEZONE
END:VCALENDAR