BEGIN:VCALENDAR
VERSION:2.0
PRODID:-//wp-events-plugin.com//7.2.3.1//EN
TZID:Europe/Paris
X-WR-TIMEZONE:Europe/Paris
BEGIN:VEVENT
UID:1324@lsr21.org
DTSTART;TZID=Europe/Paris:20260430T133000
DTEND;TZID=Europe/Paris:20260430T160000
DTSTAMP:20260422T103006Z
URL:https://lsr21.org/activites/cinema-la-corde-au-cou-jeudi-30-avril-2026
 /
SUMMARY:Cinéma "La corde au cou" - Jeudi 30 avril 2026
DESCRIPTION:\n\n\n\n«La corde au cou»\, film réalisé par Gus Van Sant\,
  anglais en VOST. à l’Eldorado\,\njeudi 30 avril\, à 14 H\, durée 1 H
  4 5 (soyer là 1/4 H maxi avant).\nC’ est l’histoire vraie d’un am
 éricain\, Tony Kiristis\, ruiné à cause d’un emprunt. En 1977\, il or
 ganise une prise d’otage et demande\, en plus d’une grosse somme d’a
 rgent\, des excuses de la part du courtier responsable de sa ruine. L’Am
 érique s’est passionné pour cette affaire : Tony est-il un criminel ou
  une victime ?\nUn film où l’angoisse côtoie l’absurde\, qui transfo
 rme un fait divers sensationnel en une étude du désespoir et de l’aban
 don social.\nSur une bande son envoûtante\, avec des acteurs (Bill Skarsg
 ard\, Dacre Montgomery\, Al Pacino) excellents dans leur interprétation\,
  c’est un polar politique jubilatoire et troublant.\n\nVenez nombreuses 
 et nombreux !\n\nContact : Nicole Salah\n\n\n\n
CATEGORIES:AMC,Cinéma Musique Théatre,Culture et Loisirs,Evènements
 ponctuels
LOCATION:Eldorado\, 21 rue Alfred de Musset\, DIJON\, 21000\, France
X-APPLE-STRUCTURED-LOCATION;VALUE=URI;X-ADDRESS=21 rue Alfred de Musset\, D
 IJON\, 21000\, France;X-APPLE-RADIUS=100;X-TITLE=Eldorado:geo:0,0
END:VEVENT
BEGIN:VTIMEZONE
TZID:Europe/Paris
X-LIC-LOCATION:Europe/Paris
BEGIN:DAYLIGHT
DTSTART:20260329T030000
TZOFFSETFROM:+0100
TZOFFSETTO:+0200
TZNAME:CEST
END:DAYLIGHT
END:VTIMEZONE
END:VCALENDAR