BEGIN:VCALENDAR
VERSION:2.0
PRODID:-//wp-events-plugin.com//7.2.3.1//EN
TZID:Europe/Paris
X-WR-TIMEZONE:Europe/Paris
BEGIN:VEVENT
UID:389@lsr21.org
DTSTART;TZID=Europe/Paris;VALUE=DATE:20230329
DTEND;TZID=Europe/Paris;VALUE=DATE:20230429
DTSTAMP:20230331T094453Z
URL:https://lsr21.org/activites/photos-du-vendredi-24-mars-2023-sortie-jon
 quilles/
SUMMARY:Photos du vendredi 24 mars 2023 - Sortie Jonquilles
DESCRIPTION:Une agréable journée\, commencée sous la pluie\, voici une a
 ncienne abbaye et son porche pour nous abriter lors de notre repas tiré d
 u sac\, voici le beau temps et nous partons ramasser de beaux bouquets de 
 jonquilles\, et visiter par la suite le charmant village de Montsaugeon.\n
 \n
CATEGORIES:Activités Pédestres,Sport
END:VEVENT
BEGIN:VTIMEZONE
TZID:Europe/Paris
X-LIC-LOCATION:Europe/Paris
BEGIN:DAYLIGHT
DTSTART:20230326T030000
TZOFFSETFROM:+0100
TZOFFSETTO:+0200
TZNAME:CEST
END:DAYLIGHT
END:VTIMEZONE
END:VCALENDAR