BEGIN:VCALENDAR
VERSION:2.0
PRODID:-//wp-events-plugin.com//7.2.3.1//EN
TZID:Europe/Paris
X-WR-TIMEZONE:Europe/Paris
BEGIN:VEVENT
UID:497@lsr21.org
DTSTART;TZID=Europe/Paris;VALUE=DATE:20230912
DTEND;TZID=Europe/Paris;VALUE=DATE:20230913
DTSTAMP:20230908T094818Z
URL:https://lsr21.org/activites/rando-bouilland/
SUMMARY:rando Bouilland
DESCRIPTION:rando au départ de Bouilland\n\nRDV 8h30 aux bourroches\n\ndé
 part 9h15 de Bouilland (places de parking au centre du village\, proximit
 é mairie)\n\n15 km 450m dénivelé\n\nniveau 3\n\ncette rando est niveau 
 3 car 2 belles grimpettes sur l'ensemble du parcours. L'une dès le dépar
 t avec une partie goudronnée. ensuite nous longerons les falaises de Boui
 lland avec de superbes sur le village. Nous adapterons le  lieu du casse 
 croute en fonction de la météo. L'après midi nous rejoindrons la route 
 pour remonter par la roche percée vers l' abbaye Ste Marguerite et nous r
 eviendrons vers le village de Bouilland par une belle descente sur un chem
 in caillouteux.\n\nvérifiez le site lundi soir en cas d'annulation pour c
 ause d'orage\n\ncontact: Bruno Forest\n\n06 44 15 01 21\n\n&nbsp\;
CATEGORIES:Activités Pédestres,randonnée 10 mars,Sport
END:VEVENT
BEGIN:VTIMEZONE
TZID:Europe/Paris
X-LIC-LOCATION:Europe/Paris
BEGIN:DAYLIGHT
DTSTART:20230326T030000
TZOFFSETFROM:+0100
TZOFFSETTO:+0200
TZNAME:CEST
END:DAYLIGHT
END:VTIMEZONE
END:VCALENDAR