BEGIN:VCALENDAR
VERSION:2.0
PRODID:-//wp-events-plugin.com//7.2.3.1//EN
TZID:Europe/Paris
X-WR-TIMEZONE:Europe/Paris
BEGIN:VEVENT
UID:1065@lsr21.org
DTSTART;TZID=Europe/Paris;VALUE=DATE:20251009
DTEND;TZID=Europe/Paris;VALUE=DATE:20251010
DTSTAMP:20251007T171321Z
URL:https://lsr21.org/activites/velo-plaisir-2/
SUMMARY:Vélo plaisir - Nuits St Georges
DESCRIPTION:Nuits St Georges\nLa sortie ira de Dijon les Bourroches à Nuit
 s St Georges par les vignes.\n\nRendez-vous  à 9h45 devant le stade des 
 Bourroches pour un départ à 10h.\n\nBalade et découverte du patrimoine 
 avec repas tiré du sac.\n\nPrenez éventuellement vos appareils photos.\
 n\nCycles utilisables : vélo de route et VTT.\n\nQuelques recommandations
  pour les sorties :\n\npensez à prendre à boire\, des barres de céréal
 es\, fruits secs\, pâtes de fruits\, etc. Si vous possédez un casque pre
 nez-le. Selon les vélos\, du matériel\n\npour réparer les crevaisons é
 ventuelles(chambres à air\, rustines\, colle\, pompe\, etc). En bref\, to
 ut ce qui peut être utile pour rendre unesortie cyclo la plus agréable p
 ossible et dans les meilleures conditions. Alors à bientôt\, nombreux et
  avec vos vélos !\n\nContact : Denis Maillot 06 87 58 88 84 ou site inte
 rnet
CATEGORIES:Cyclo,Evènements ponctuels,randonnée 10 mars,Sport
END:VEVENT
BEGIN:VTIMEZONE
TZID:Europe/Paris
X-LIC-LOCATION:Europe/Paris
BEGIN:DAYLIGHT
DTSTART:20250330T030000
TZOFFSETFROM:+0100
TZOFFSETTO:+0200
TZNAME:CEST
END:DAYLIGHT
END:VTIMEZONE
END:VCALENDAR